BEGIN:VCALENDAR
VERSION:2.0
PRODID:icalendar-ruby
CALSCALE:GREGORIAN
METHOD:PUBLISH
BEGIN:VEVENT
DTSTAMP:20260424T094031Z
UID:212-1669013@stmarksbarriefield.com
DTSTART:20260606T180000Z
DTEND:20260606T200000Z
CLASS:PUBLIC
CREATED:20260423T101557
DESCRIPTION:Proceeds to Tower Restoration Fund
LAST-MODIFIED:20260423T101557
LOCATION:St. Mark's Parish Hall
SUMMARY:Afternoon Tea on the Hill
URL;VALUE=URI:https://stmarksbarriefield.com/events/afternoon-tea-on-the-hi
 ll/2026-06-06
ATTACH;FILENAME=Afternoon-Tea-on-the-Hill-2026.jpg;FMTTYPE=image/jpeg:https
 ://dq5pwpg1q8ru0.cloudfront.net/2026/04/23/14/14/45/f3b2743a-a08e-496f-be3
 5-fcbcc3746cde/Afternoon-Tea-on-the-Hill-2026.jpg
END:VEVENT
END:VCALENDAR
