BEGIN:VCALENDAR
VERSION:2.0
PRODID:icalendar-ruby
CALSCALE:GREGORIAN
METHOD:PUBLISH
BEGIN:VEVENT
DTSTAMP:20260425T221753Z
UID:248-1688668@stmarksbarriefield.com
DTSTART:20261015T190000Z
DTEND:20261015T200000Z
CLASS:PUBLIC
CREATED:20260425T174608
DESCRIPTION:St. Mark's choir meets for practice and fellowship every Thursd
 ay afternoon at 3:00 pm.\nAll voices welcome!
LAST-MODIFIED:20260425T174608
LOCATION:St. Mark's Church
SUMMARY:Choir Practice
URL;VALUE=URI:https://stmarksbarriefield.com/events/choir-practice--248/202
 6-10-15
ATTACH;FILENAME=Choir-2.jpg;FMTTYPE=image/jpeg:https://dq5pwpg1q8ru0.cloudf
 ront.net/2024/11/14/21/12/33/5ab0efe8-9936-4a80-a9a2-135a5df4ddf0/Choir-2.
 jpg
END:VEVENT
END:VCALENDAR
