BEGIN:VCALENDAR
VERSION:2.0
PRODID:icalendar-ruby
CALSCALE:GREGORIAN
METHOD:PUBLISH
BEGIN:VEVENT
DTSTAMP:20260424T125307Z
UID:189-1661034@stmarksbarriefield.com
DTSTART:20260729T230000Z
DTEND:20260730T000000Z
CLASS:PUBLIC
CREATED:20260422T121646
DESCRIPTION:We will hold  quiet\, contemplative evening prayer on the last
  Wednesday of the month.  We will gather at 7:00 p.m. for a time of scrip
 ture\, reflection and prayer. 
LAST-MODIFIED:20260422T121646
LOCATION:St. Mark's Church
SUMMARY:Evening Prayer
URL;VALUE=URI:https://stmarksbarriefield.com/events/evening-prayer/2026-07-
 29
ATTACH;FILENAME=Evening-Prayer.png;FMTTYPE=image/png:https://dq5pwpg1q8ru0.
 cloudfront.net/2023/09/14/17/54/04/8b3b0f60-56ce-4be9-a218-0acc31379582/Ev
 ening-Prayer.png
END:VEVENT
END:VCALENDAR
