BEGIN:VCALENDAR
VERSION:2.0
PRODID:icalendar-ruby
CALSCALE:GREGORIAN
METHOD:PUBLISH
BEGIN:VEVENT
DTSTAMP:20260425T013148Z
UID:46-1681497@stmarksbarriefield.com
DTSTART:20261018T123000Z
DTEND:20261018T133000Z
CLASS:PUBLIC
CREATED:20260424T211319
DESCRIPTION:IN-PERSON WORSHIP ONLY\n 
LAST-MODIFIED:20260424T211319
LOCATION:St. Mark's Church
SUMMARY:Holy Communion (BCP)
URL;VALUE=URI:https://stmarksbarriefield.com/events/holy-communion-bcp/2026
 -10-18
ATTACH;FILENAME=IMG_9558-Edit-1.jpg;FMTTYPE=image/jpeg:https://dq5pwpg1q8ru
 0.cloudfront.net/2022/06/09/19/33/25/1150cb04-884e-45d4-ab45-82cb6916c203/
 IMG_9558-Edit-1.jpg
END:VEVENT
END:VCALENDAR
