BEGIN:VCALENDAR
VERSION:2.0
PRODID:icalendar-ruby
CALSCALE:GREGORIAN
METHOD:PUBLISH
BEGIN:VEVENT
DTSTAMP:20260422T102746Z
UID:258-1609439@stmarksbarriefield.com
DTSTART:20260522T200000Z
DTEND:20260522T213000Z
CLASS:PUBLIC
CREATED:20260415T201726
DESCRIPTION:Our "traditional" Cold Plate supper will include: potato salad\
 , mustard salad\, beet salad\, coleslaw\, lettuce\, tomato\, ham\, roast b
 eef or turkey\, a dinner roll with a square/cookie for dessert.\nProceeds 
 for General Fund.\n 
LAST-MODIFIED:20260415T201726
LOCATION:St. Mark's Parish Hall
SUMMARY:Newfoundland Coldplate Takeout Supper
URL;VALUE=URI:https://stmarksbarriefield.com/events/newfoundland-coldplate-
 takeout-supper/2026-05-22
ATTACH;FILENAME=Cold-Plate-Supper--2026---New-Date.jpg;FMTTYPE=image/jpeg:h
 ttps://dq5pwpg1q8ru0.cloudfront.net/2026/04/16/00/17/25/49f1223e-8e10-4c1b
 -9e32-5d2739b54451/Cold-Plate-Supper--2026---New-Date.jpg
END:VEVENT
END:VCALENDAR
