BEGIN:VCALENDAR
VERSION:2.0
PRODID:icalendar-ruby
CALSCALE:GREGORIAN
METHOD:PUBLISH
BEGIN:VEVENT
DTSTAMP:20260424T094256Z
UID:320-1275175@stmarksbarriefield.com
DTSTART:20260608T183000Z
DTEND:20260608T200000Z
CLASS:PUBLIC
CREATED:20260303T143647
DESCRIPTION:From Nobel laureate\, and noted human rights activist Dr. Denis
  Mukwege\, comes an inspiring clarion call-to-action to confront the scour
 ge of sexual violence and better learn from women's resilience\, strength\
 , and power.\nDr. Denis Mukwege was born in the Belgian Congo in 1955. As
  a child and young man\, he was a first-hand witness to racial prejudices\
 , as well as to the economic and moral decay of the Democratic Republic of
  Congo under dictatorship. Now a world renowned gynecological surgeon\, he
  is recognized as the world’s leading expert on treating rape injuries\,
  and his holistic approach to healing has inspired other initiatives aroun
 d the world. In 2018\, he was awarded the Nobel Peace Prize along with Yaz
 idi human rights activist and sexual violence survivor Nadia Murad.
LAST-MODIFIED:20260303T143647
LOCATION:Home of Alan Rumsey
SUMMARY:St. Mark's Book Club
URL;VALUE=URI:https://stmarksbarriefield.com/events/st-marks-book-club--320
 /2026-06-08
ATTACH;FILENAME=Power-of-Women.png;FMTTYPE=image/png:https://dq5pwpg1q8ru0.
 cloudfront.net/2026/03/03/19/36/46/19b66499-26e1-4c03-b67c-ba031e2db62d/Po
 wer-of-Women.png
END:VEVENT
END:VCALENDAR
